BEGIN:VCALENDAR
VERSION:2.0
PRODID:icalendar-ruby
CALSCALE:GREGORIAN
METHOD:PUBLISH
BEGIN:VEVENT
DTSTAMP:20260421T235857Z
UID:6-250017@faithcommunitybaptist.com
DTSTART:20261004T160000Z
DTEND:20261004T173000Z
CLASS:PUBLIC
CREATED:20260421T165140
DESCRIPTION:Sunday morning worship service from 10:00am to 11:30am
LAST-MODIFIED:20260421T165140
LOCATION:Faith Community Baptist Church
SUMMARY:Sunday Worship
URL;VALUE=URI:https://faithcommunitybaptist.com/events/sunday-worship--6/20
 26-10-04
ATTACH;FILENAME=IMG_1831.jpg;FMTTYPE=image/jpeg:https://dq5pwpg1q8ru0.cloud
 front.net/2025/05/14/16/11/06/40998fb8-15d7-4cba-a0f9-a3abd96767f0/IMG_183
 1.jpg
END:VEVENT
END:VCALENDAR
