BEGIN:VCALENDAR
VERSION:2.0
PRODID:icalendar-ruby
CALSCALE:GREGORIAN
METHOD:PUBLISH
BEGIN:VEVENT
DTSTAMP:20260421T204009Z
UID:6-249936@faithcommunitybaptist.com
DTSTART:20260920T160000Z
DTEND:20260920T173000Z
CLASS:PUBLIC
CREATED:20260421T141311
DESCRIPTION:Sunday morning worship service from 10:00am to 11:30am
LAST-MODIFIED:20260421T141311
LOCATION:Faith Community Baptist Church
SUMMARY:Sunday Worship
URL;VALUE=URI:https://faithcommunitybaptist.com/events/sunday-worship--6/20
 26-09-20
ATTACH;FILENAME=IMG_1831.jpg;FMTTYPE=image/jpeg:https://dq5pwpg1q8ru0.cloud
 front.net/2025/05/14/16/11/06/40998fb8-15d7-4cba-a0f9-a3abd96767f0/IMG_183
 1.jpg
END:VEVENT
END:VCALENDAR
